BEGIN:VCALENDAR
VERSION:2.0
PRODID:-//eventon.com NONSGML v1.0//EN
CALSCALE:GREGORIAN
METHOD:PUBLISH
BEGIN:VEVENT
UID:69e89c8939c97
DTSTAMP:20260422T100145Z
DTSTART:20230411T193000Z
DTEND:20230411T210000Z
LOCATION:
SUMMARY:Healing with Art\,  Hosted by Art4Healing
DESCRIPTION:Virtual\,  details to come. Virtual\,  details to come. Virtual
 \,  details to come. Virtual\,  details to come. Virtual\,  details to come
 . Virtual\,  details to come. Virtual\,  details to come. Virtual\,  detail
 s to come.\nhttps://freeccpa.com/index.php/events/healing-with-art-hosted-b
 y-art4healing/
URL:https://freeccpa.com/index.php/events/healing-with-art-hosted-by-art4healing/
END:VEVENT
END:VCALENDAR